BEGIN:VCALENDAR
VERSION:2.0
PRODID:-//Tryon Riding and Hunt Club, Tryon North Carolina, Preserving the Equestrian Tradition Since 1925 - ECPv6.15.20//NONSGML v1.0//EN
CALSCALE:GREGORIAN
METHOD:PUBLISH
X-ORIGINAL-URL:https://tryonridingandhuntclub.org
X-WR-CALDESC:Events for Tryon Riding and Hunt Club, Tryon North Carolina, Preserving the Equestrian Tradition Since 1925
REFRESH-INTERVAL;VALUE=DURATION:PT1H
X-Robots-Tag:noindex
X-PUBLISHED-TTL:PT1H
BEGIN:VTIMEZONE
TZID:America/New_York
BEGIN:DAYLIGHT
TZOFFSETFROM:-0500
TZOFFSETTO:-0400
TZNAME:EDT
DTSTART:20240310T070000
END:DAYLIGHT
BEGIN:STANDARD
TZOFFSETFROM:-0400
TZOFFSETTO:-0500
TZNAME:EST
DTSTART:20241103T060000
END:STANDARD
BEGIN:DAYLIGHT
TZOFFSETFROM:-0500
TZOFFSETTO:-0400
TZNAME:EDT
DTSTART:20250309T070000
END:DAYLIGHT
BEGIN:STANDARD
TZOFFSETFROM:-0400
TZOFFSETTO:-0500
TZNAME:EST
DTSTART:20251102T060000
END:STANDARD
BEGIN:DAYLIGHT
TZOFFSETFROM:-0500
TZOFFSETTO:-0400
TZNAME:EDT
DTSTART:20260308T070000
END:DAYLIGHT
BEGIN:STANDARD
TZOFFSETFROM:-0400
TZOFFSETTO:-0500
TZNAME:EST
DTSTART:20261101T060000
END:STANDARD
BEGIN:DAYLIGHT
TZOFFSETFROM:-0500
TZOFFSETTO:-0400
TZNAME:EDT
DTSTART:20270314T070000
END:DAYLIGHT
BEGIN:STANDARD
TZOFFSETFROM:-0400
TZOFFSETTO:-0500
TZNAME:EST
DTSTART:20271107T060000
END:STANDARD
END:VTIMEZONE
BEGIN:VEVENT
DTSTART;VALUE=DATE:20260417
DTEND;VALUE=DATE:20260420
DTSTAMP:20260422T094701
CREATED:20230828T200838Z
LAST-MODIFIED:20260317T171414Z
UID:3794-1776384000-1776643199@tryonridingandhuntclub.org
SUMMARY:TR&HC Horse and Hound Show
DESCRIPTION:The Tryon Horse and Hound Show brings back to Tryon one of the Club’s oldest historical events. This show is believed to have started in 1928 though the first program we have located is for a show in 1935. Either way\, this is historic! \nFor 2026\, we anticipate both horses\, hounds and the Silent Auction to return to our most recent location at FENCE. This show continues to grow in popularity and we are excited to build on its success this year. The prize list is now  available at www.harmonclassics.com. \nSponsorships are available! Contact us for more information.\n \n \nIn terms of history\, the Club desired to re-establish the old tradition and so a Horse Show was held in 2018 (and then again in 2019) and was the first club-sponsored horse show at Harmon  Field since the 1980’s. In 2020\, plans to add a hound show to the horse show were canceled due to the pandemic. However\, in June of 2020\, several fox hunting clubs decided to get together and hold a small\, informal puppy show with full Covid precautions as a test event and this was concluded successfully.
URL:https://tryonridingandhuntclub.org/event/tryon-horse-and-hound-show/
LOCATION:FENCE\, 3381 Hunting Country Rd\, Tryon\, NC 28782
CATEGORIES:hound and dog
END:VEVENT
BEGIN:VEVENT
DTSTART;TZID=America/New_York:20251102T120000
DTEND;TZID=America/New_York:20251102T160000
DTSTAMP:20260422T094701
CREATED:20250505T200530Z
LAST-MODIFIED:20251008T222342Z
UID:4088-1762084800-1762099200@tryonridingandhuntclub.org
SUMMARY:92nd Any and All Dog Show
DESCRIPTION:Tryon Riding and Hunt Club’s Any & All Dog Show Celebrates its 92nd Year!\n92nd Annual Any & All Dog Show at Harmon Field on November 2\, 2025\, 1-4pm sponsored by the Tryon Riding and Hunt Club. \nDogs of all shapes and sizes are welcome to enter this light-hearted show held at the TR&HC outdoor arena at Harmon Field. Registration will open at noon and festivities will begin at 1pm. Some of the classes this year will include: Biggest and Smallest\, Best Trick\, Best Costume\, Dog that looks Most Like Owner\, and Best Rescue Dog. \nFood trucks and kids activities will be available. \nPlease fill out and print the entry blank below and bring it with your $1/class payment! \nAADS Entry Form Fillable
URL:https://tryonridingandhuntclub.org/event/90th-any-and-all-dog-show-2/
LOCATION:Harmon Field
CATEGORIES:hound and dog
ATTACH;FMTTYPE=image/png:https://tryonridingandhuntclub.org/wp-content/uploads/2025/05/Screenshot-2025-08-07-070157.png
END:VEVENT
END:VCALENDAR